Package: flowWorkspace Version: 4.12.2 Command: rm -rf flowWorkspace.buildbin-libdir && mkdir flowWorkspace.buildbin-libdir && F:\biocbuild\bbs-3.17-bioc\R\bin\R.exe CMD INSTALL --build --library=flowWorkspace.buildbin-libdir flowWorkspace_4.12.2.tar.gz StartedAt: 2023-10-16 08:49:10 -0400 (Mon, 16 Oct 2023) EndedAt: 2023-10-16 08:52:23 -0400 (Mon, 16 Oct 2023) EllapsedTime: 193.1 seconds RetCode: 0 Status: OK PackageFile: flowWorkspace_4.12.2.zip PackageFileSize: 5.203 MiB