Package: flowWorkspace Version: 4.12.2 Command: /home/biocbuild/bbs-3.17-bioc/R/bin/R CMD build --keep-empty-dirs --no-resave-data flowWorkspace StartedAt: 2023-10-15 16:50:32 -0400 (Sun, 15 Oct 2023) EndedAt: 2023-10-15 16:53:13 -0400 (Sun, 15 Oct 2023) EllapsedTime: 160.7 seconds RetCode: 0 Status: OK PackageFile: flowWorkspace_4.12.2.tar.gz PackageFileSize: 4.389 MiB