Package: flowStats Version: 4.12.0 Command: /home/biocbuild/bbs-3.17-bioc/R/bin/R CMD build --keep-empty-dirs --no-resave-data flowStats StartedAt: 2023-10-15 16:50:18 -0400 (Sun, 15 Oct 2023) EndedAt: 2023-10-15 16:51:53 -0400 (Sun, 15 Oct 2023) EllapsedTime: 95.1 seconds RetCode: 0 Status: OK PackageFile: flowStats_4.12.0.tar.gz PackageFileSize: 10.96 MiB