Package: flowMap Version: 1.38.0 Command: /home/biocbuild/bbs-3.17-bioc/R/bin/R CMD build --keep-empty-dirs --no-resave-data flowMap StartedAt: 2023-10-15 16:49:29 -0400 (Sun, 15 Oct 2023) EndedAt: 2023-10-15 16:50:11 -0400 (Sun, 15 Oct 2023) EllapsedTime: 41.4 seconds RetCode: 0 Status: OK PackageFile: flowMap_1.38.0.tar.gz PackageFileSize: 879.3 KiB