Package: flowMap Version: 1.38.0 Command: /Library/Frameworks/R.framework/Resources/bin/R CMD build --keep-empty-dirs --no-resave-data flowMap StartedAt: 2023-10-15 18:22:21 -0400 (Sun, 15 Oct 2023) EndedAt: 2023-10-15 18:24:15 -0400 (Sun, 15 Oct 2023) EllapsedTime: 113.4 seconds RetCode: 0 Status: OK PackageFile: flowMap_1.38.0.tar.gz PackageFileSize: 878.8 KiB