Package: flowDensity Version: 1.34.0 Command: /home/biocbuild/bbs-3.17-bioc/R/bin/R CMD INSTALL flowDensity StartedAt: 2023-10-15 15:36:25 -0400 (Sun, 15 Oct 2023) EndedAt: 2023-10-15 15:36:43 -0400 (Sun, 15 Oct 2023) EllapsedTime: 18.9 seconds RetCode: 0 Status: OK