Package: flowCore Version: 2.12.2 Command: /home/biocbuild/bbs-3.17-bioc/R/bin/R CMD build --keep-empty-dirs --no-resave-data flowCore StartedAt: 2023-10-15 16:49:01 -0400 (Sun, 15 Oct 2023) EndedAt: 2023-10-15 16:50:27 -0400 (Sun, 15 Oct 2023) EllapsedTime: 86.1 seconds RetCode: 0 Status: OK PackageFile: flowCore_2.12.2.tar.gz PackageFileSize: 7.436 MiB