Package: flowCore Version: 2.12.2 Command: rm -rf flowCore.buildbin-libdir && mkdir flowCore.buildbin-libdir && /Users/biocbuild/BBS/utils/build-universal.sh flowCore_2.12.2.tar.gz /Library/Frameworks/R.framework/Resources/bin/R flowCore.buildbin-libdir StartedAt: 2023-10-16 09:24:34 -0400 (Mon, 16 Oct 2023) EndedAt: 2023-10-16 09:27:25 -0400 (Mon, 16 Oct 2023) EllapsedTime: 172.0 seconds RetCode: 0 Status: OK PackageFile: flowCore_2.12.2.tgz PackageFileSize: 8.144 MiB