Package: flowClean Version: 1.38.0 Command: /home/biocbuild/bbs-3.17-bioc/R/bin/R CMD build --keep-empty-dirs --no-resave-data flowClean StartedAt: 2023-10-15 16:48:56 -0400 (Sun, 15 Oct 2023) EndedAt: 2023-10-15 16:49:25 -0400 (Sun, 15 Oct 2023) EllapsedTime: 28.9 seconds RetCode: 0 Status: OK PackageFile: flowClean_1.38.0.tar.gz PackageFileSize: 4.69 MiB