Package: flowAI Version: 1.30.0 Command: /home/biocbuild/bbs-3.17-bioc/R/bin/R CMD build --keep-empty-dirs --no-resave-data flowAI StartedAt: 2023-10-15 16:48:33 -0400 (Sun, 15 Oct 2023) EndedAt: 2023-10-15 16:48:48 -0400 (Sun, 15 Oct 2023) EllapsedTime: 15.3 seconds RetCode: 0 Status: OK PackageFile: flowAI_1.30.0.tar.gz PackageFileSize: 3.747 MiB