Package: flowAI Version: 1.30.0 Command: /Library/Frameworks/R.framework/Resources/bin/R CMD build --keep-empty-dirs --no-resave-data flowAI StartedAt: 2023-10-15 18:21:03 -0400 (Sun, 15 Oct 2023) EndedAt: 2023-10-15 18:21:42 -0400 (Sun, 15 Oct 2023) EllapsedTime: 38.5 seconds RetCode: 0 Status: OK PackageFile: flowAI_1.30.0.tar.gz PackageFileSize: 3.747 MiB