Package: fcScan Version: 1.14.0 Command: /home/biocbuild/bbs-3.17-bioc/R/bin/R CMD INSTALL fcScan StartedAt: 2023-10-15 15:24:26 -0400 (Sun, 15 Oct 2023) EndedAt: 2023-10-15 15:25:05 -0400 (Sun, 15 Oct 2023) EllapsedTime: 39.5 seconds RetCode: 0 Status: OK