Package: fastseg Version: 1.46.0 Command: rm -rf fastseg.buildbin-libdir && mkdir fastseg.buildbin-libdir && /Users/biocbuild/BBS/utils/build-universal.sh fastseg_1.46.0.tar.gz /Library/Frameworks/R.framework/Resources/bin/R fastseg.buildbin-libdir StartedAt: 2023-10-16 09:23:37 -0400 (Mon, 16 Oct 2023) EndedAt: 2023-10-16 09:24:25 -0400 (Mon, 16 Oct 2023) EllapsedTime: 48.8 seconds RetCode: 0 Status: OK PackageFile: fastseg_1.46.0.tgz PackageFileSize: 559.3 KiB