Package: enrichplot Version: 1.20.3 Command: rm -rf enrichplot.buildbin-libdir && mkdir enrichplot.buildbin-libdir && F:\biocbuild\bbs-3.17-bioc\R\bin\R.exe CMD INSTALL --build --library=enrichplot.buildbin-libdir enrichplot_1.20.3.tar.gz StartedAt: 2023-10-16 08:45:13 -0400 (Mon, 16 Oct 2023) EndedAt: 2023-10-16 08:45:52 -0400 (Mon, 16 Oct 2023) EllapsedTime: 39.3 seconds RetCode: 0 Status: OK PackageFile: enrichplot_1.20.3.zip PackageFileSize: 338 KiB