Package: easyRNASeq Version: 2.36.0 Command: /home/biocbuild/bbs-3.17-bioc/R/bin/R CMD INSTALL easyRNASeq StartedAt: 2023-10-15 15:27:34 -0400 (Sun, 15 Oct 2023) EndedAt: 2023-10-15 15:28:18 -0400 (Sun, 15 Oct 2023) EllapsedTime: 44.3 seconds RetCode: 0 Status: OK