Package: easier Version: 1.6.3 Command: /home/biocbuild/bbs-3.17-bioc/R/bin/R CMD build --keep-empty-dirs --no-resave-data easier StartedAt: 2023-10-15 16:40:12 -0400 (Sun, 15 Oct 2023) EndedAt: 2023-10-15 16:45:25 -0400 (Sun, 15 Oct 2023) EllapsedTime: 313.4 seconds RetCode: 0 Status: OK PackageFile: easier_1.6.3.tar.gz PackageFileSize: 3.317 MiB