Package: diffuStats Version: 1.20.0 Command: /Library/Frameworks/R.framework/Resources/bin/R CMD build --keep-empty-dirs --no-resave-data diffuStats StartedAt: 2023-10-15 17:58:18 -0400 (Sun, 15 Oct 2023) EndedAt: 2023-10-15 18:00:20 -0400 (Sun, 15 Oct 2023) EllapsedTime: 121.9 seconds RetCode: 0 Status: OK PackageFile: diffuStats_1.20.0.tar.gz PackageFileSize: 1.301 MiB