Package: diffcoexp Version: 1.20.0 Command: /Library/Frameworks/R.framework/Resources/bin/R CMD INSTALL diffcoexp StartedAt: 2023-10-15 16:07:14 -0400 (Sun, 15 Oct 2023) EndedAt: 2023-10-15 16:08:44 -0400 (Sun, 15 Oct 2023) EllapsedTime: 89.4 seconds RetCode: 0 Status: OK