Package: diffUTR Version: 1.8.0 Command: /home/biocbuild/bbs-3.17-bioc/R/bin/R CMD check --install=check:diffUTR.install-out.txt --library=/home/biocbuild/bbs-3.17-bioc/R/site-library --timings diffUTR_1.8.0.tar.gz StartedAt: 2023-10-15 20:50:32 -0400 (Sun, 15 Oct 2023) EndedAt: 2023-10-15 20:55:59 -0400 (Sun, 15 Oct 2023) EllapsedTime: 327.3 seconds RetCode: 0 Status: OK CheckDir: diffUTR.Rcheck Warnings: 0