Package: diffHic Version: 1.32.0 Command: /Library/Frameworks/R.framework/Resources/bin/R CMD INSTALL diffHic StartedAt: 2023-10-15 15:34:56 -0400 (Sun, 15 Oct 2023) EndedAt: 2023-10-15 15:40:54 -0400 (Sun, 15 Oct 2023) EllapsedTime: 357.9 seconds RetCode: 0 Status: OK