Package: diffGeneAnalysis Version: 1.82.0 Command: rm -rf diffGeneAnalysis.buildbin-libdir && mkdir diffGeneAnalysis.buildbin-libdir && F:\biocbuild\bbs-3.17-bioc\R\bin\R.exe CMD INSTALL --build --library=diffGeneAnalysis.buildbin-libdir diffGeneAnalysis_1.82.0.tar.gz StartedAt: 2023-10-16 08:42:30 -0400 (Mon, 16 Oct 2023) EndedAt: 2023-10-16 08:42:36 -0400 (Mon, 16 Oct 2023) EllapsedTime: 5.0 seconds RetCode: 0 Status: OK PackageFile: diffGeneAnalysis_1.82.0.zip PackageFileSize: 196.4 KiB