Package: diffGeneAnalysis Version: 1.82.0 Command: /home/biocbuild/bbs-3.17-bioc/R/bin/R CMD check --install=check:diffGeneAnalysis.install-out.txt --library=/home/biocbuild/bbs-3.17-bioc/R/site-library --timings diffGeneAnalysis_1.82.0.tar.gz StartedAt: 2023-10-15 20:49:53 -0400 (Sun, 15 Oct 2023) EndedAt: 2023-10-15 20:50:09 -0400 (Sun, 15 Oct 2023) EllapsedTime: 16.6 seconds RetCode: 0 Status: OK CheckDir: diffGeneAnalysis.Rcheck Warnings: 0