Package: decompTumor2Sig Version: 2.16.0 Command: /home/biocbuild/bbs-3.17-bioc/R/bin/R CMD build --keep-empty-dirs --no-resave-data decompTumor2Sig StartedAt: 2023-10-15 16:31:43 -0400 (Sun, 15 Oct 2023) EndedAt: 2023-10-15 16:36:11 -0400 (Sun, 15 Oct 2023) EllapsedTime: 267.8 seconds RetCode: 0 Status: OK PackageFile: decompTumor2Sig_2.16.0.tar.gz PackageFileSize: 2.581 MiB