Package: dStruct Version: 1.6.0 Command: rm -rf dStruct.buildbin-libdir && mkdir dStruct.buildbin-libdir && /Users/biocbuild/BBS/utils/build-universal.sh dStruct_1.6.0.tar.gz /Library/Frameworks/R.framework/Resources/bin/R dStruct.buildbin-libdir StartedAt: 2023-10-16 09:19:31 -0400 (Mon, 16 Oct 2023) EndedAt: 2023-10-16 09:19:41 -0400 (Mon, 16 Oct 2023) EllapsedTime: 10.4 seconds RetCode: 0 Status: OK PackageFile: dStruct_1.6.0.tgz PackageFileSize: 597.2 KiB