Package: cytomapper Version: 1.12.0 Command: /home/biocbuild/bbs-3.17-bioc/R/bin/R CMD INSTALL cytomapper StartedAt: 2023-10-15 15:33:41 -0400 (Sun, 15 Oct 2023) EndedAt: 2023-10-15 15:34:35 -0400 (Sun, 15 Oct 2023) EllapsedTime: 53.9 seconds RetCode: 0 Status: OK