Package: cytomapper Version: 1.12.0 Command: /home/biocbuild/bbs-3.17-bioc/R/bin/R CMD build --keep-empty-dirs --no-resave-data cytomapper StartedAt: 2023-10-15 16:30:06 -0400 (Sun, 15 Oct 2023) EndedAt: 2023-10-15 16:31:41 -0400 (Sun, 15 Oct 2023) EllapsedTime: 94.9 seconds RetCode: 0 Status: OK PackageFile: cytomapper_1.12.0.tar.gz PackageFileSize: 20.94 MiB