Package: compcodeR Version: 1.36.2 Command: /home/biocbuild/bbs-3.17-bioc/R/bin/R CMD INSTALL compcodeR StartedAt: 2023-10-15 15:18:50 -0400 (Sun, 15 Oct 2023) EndedAt: 2023-10-15 15:19:02 -0400 (Sun, 15 Oct 2023) EllapsedTime: 11.8 seconds RetCode: 0 Status: OK