Package: compcodeR Version: 1.36.2 Command: /home/biocbuild/bbs-3.17-bioc/R/bin/R CMD check --install=check:compcodeR.install-out.txt --library=/home/biocbuild/bbs-3.17-bioc/R/site-library --timings compcodeR_1.36.2.tar.gz StartedAt: 2023-10-15 20:18:19 -0400 (Sun, 15 Oct 2023) EndedAt: 2023-10-15 20:24:01 -0400 (Sun, 15 Oct 2023) EllapsedTime: 341.8 seconds RetCode: 0 Status: OK CheckDir: compcodeR.Rcheck Warnings: 0