Package: compEpiTools Version: 1.34.1 Command: rm -rf compEpiTools.buildbin-libdir && mkdir compEpiTools.buildbin-libdir && /Users/biocbuild/BBS/utils/build-universal.sh compEpiTools_1.34.1.tar.gz /Library/Frameworks/R.framework/Resources/bin/R compEpiTools.buildbin-libdir StartedAt: 2023-10-16 09:11:27 -0400 (Mon, 16 Oct 2023) EndedAt: 2023-10-16 09:14:26 -0400 (Mon, 16 Oct 2023) EllapsedTime: 178.5 seconds RetCode: 0 Status: OK PackageFile: compEpiTools_1.34.1.tgz PackageFileSize: 2.341 MiB