Package: clustifyr Version: 1.12.0 Command: /home/biocbuild/bbs-3.17-bioc/R/bin/R CMD build --keep-empty-dirs --no-resave-data clustifyr StartedAt: 2023-10-15 16:21:24 -0400 (Sun, 15 Oct 2023) EndedAt: 2023-10-15 16:22:11 -0400 (Sun, 15 Oct 2023) EllapsedTime: 47.1 seconds RetCode: 0 Status: OK PackageFile: clustifyr_1.12.0.tar.gz PackageFileSize: 3.424 MiB