Package: clusterStab Version: 1.72.0 Command: /home/biocbuild/bbs-3.17-bioc/R/bin/R CMD build --keep-empty-dirs --no-resave-data clusterStab StartedAt: 2023-10-15 16:21:21 -0400 (Sun, 15 Oct 2023) EndedAt: 2023-10-15 16:21:33 -0400 (Sun, 15 Oct 2023) EllapsedTime: 12.9 seconds RetCode: 0 Status: OK PackageFile: clusterStab_1.72.0.tar.gz PackageFileSize: 86.75 KiB