Package: clusterSeq Version: 1.24.0 Command: /home/biocbuild/bbs-3.17-bioc/R/bin/R CMD check --install=check:clusterSeq.install-out.txt --library=/home/biocbuild/bbs-3.17-bioc/R/site-library --timings clusterSeq_1.24.0.tar.gz StartedAt: 2023-10-15 20:10:51 -0400 (Sun, 15 Oct 2023) EndedAt: 2023-10-15 20:15:39 -0400 (Sun, 15 Oct 2023) EllapsedTime: 287.4 seconds RetCode: 0 Status: OK CheckDir: clusterSeq.Rcheck Warnings: 0