Package: clusterProfiler Version: 4.8.3 Command: chmod a+r clusterProfiler -R && F:\biocbuild\bbs-3.17-bioc\R\bin\R.exe CMD build --keep-empty-dirs --no-resave-data clusterProfiler StartedAt: 2023-10-15 18:12:02 -0400 (Sun, 15 Oct 2023) EndedAt: 2023-10-15 18:12:35 -0400 (Sun, 15 Oct 2023) EllapsedTime: 33.1 seconds RetCode: 0 Status: OK PackageFile: clusterProfiler_4.8.3.tar.gz PackageFileSize: 433.4 KiB