Package: clustComp Version: 1.28.0 Command: /home/biocbuild/bbs-3.17-bioc/R/bin/R CMD build --keep-empty-dirs --no-resave-data clustComp StartedAt: 2023-10-15 16:20:53 -0400 (Sun, 15 Oct 2023) EndedAt: 2023-10-15 16:21:50 -0400 (Sun, 15 Oct 2023) EllapsedTime: 57.7 seconds RetCode: 0 Status: OK PackageFile: clustComp_1.28.0.tar.gz PackageFileSize: 792.3 KiB