Package: cleanUpdTSeq Version: 1.38.0 Command: F:\biocbuild\bbs-3.17-bioc\R\bin\R.exe CMD INSTALL cleanUpdTSeq StartedAt: 2023-10-15 16:16:47 -0400 (Sun, 15 Oct 2023) EndedAt: 2023-10-15 16:18:02 -0400 (Sun, 15 Oct 2023) EllapsedTime: 74.9 seconds RetCode: 0 Status: OK