Package: cleanUpdTSeq Version: 1.38.0 Command: chmod a+r cleanUpdTSeq -R && F:\biocbuild\bbs-3.17-bioc\R\bin\R.exe CMD build --keep-empty-dirs --no-resave-data cleanUpdTSeq StartedAt: 2023-10-15 18:09:35 -0400 (Sun, 15 Oct 2023) EndedAt: 2023-10-15 18:10:57 -0400 (Sun, 15 Oct 2023) EllapsedTime: 82.2 seconds RetCode: 0 Status: OK PackageFile: cleanUpdTSeq_1.38.0.tar.gz PackageFileSize: 4.008 MiB