Package: cleanUpdTSeq Version: 1.38.0 Command: rm -rf cleanUpdTSeq.buildbin-libdir && mkdir cleanUpdTSeq.buildbin-libdir && F:\biocbuild\bbs-3.17-bioc\R\bin\R.exe CMD INSTALL --build --library=cleanUpdTSeq.buildbin-libdir cleanUpdTSeq_1.38.0.tar.gz StartedAt: 2023-10-16 08:35:24 -0400 (Mon, 16 Oct 2023) EndedAt: 2023-10-16 08:36:43 -0400 (Mon, 16 Oct 2023) EllapsedTime: 79.2 seconds RetCode: 0 Status: OK PackageFile: cleanUpdTSeq_1.38.0.zip PackageFileSize: 5.544 MiB