Package: cleanUpdTSeq Version: 1.38.0 Command: /Library/Frameworks/R.framework/Resources/bin/R CMD INSTALL cleanUpdTSeq StartedAt: 2023-10-15 15:42:15 -0400 (Sun, 15 Oct 2023) EndedAt: 2023-10-15 15:46:13 -0400 (Sun, 15 Oct 2023) EllapsedTime: 238.3 seconds RetCode: 0 Status: OK