Package: cleanUpdTSeq Version: 1.38.0 Command: rm -rf cleanUpdTSeq.buildbin-libdir && mkdir cleanUpdTSeq.buildbin-libdir && /Users/biocbuild/BBS/utils/build-universal.sh cleanUpdTSeq_1.38.0.tar.gz /Library/Frameworks/R.framework/Resources/bin/R cleanUpdTSeq.buildbin-libdir StartedAt: 2023-10-16 09:09:17 -0400 (Mon, 16 Oct 2023) EndedAt: 2023-10-16 09:13:18 -0400 (Mon, 16 Oct 2023) EllapsedTime: 240.9 seconds RetCode: 0 Status: OK PackageFile: cleanUpdTSeq_1.38.0.tgz PackageFileSize: 5.547 MiB