Package: cisPath Version: 1.40.0 Command: /Library/Frameworks/R.framework/Resources/bin/R CMD INSTALL cisPath StartedAt: 2023-10-15 15:03:36 -0400 (Sun, 15 Oct 2023) EndedAt: 2023-10-15 15:03:57 -0400 (Sun, 15 Oct 2023) EllapsedTime: 20.9 seconds RetCode: 0 Status: OK