Package: cisPath Version: 1.40.0 Command: /Library/Frameworks/R.framework/Resources/bin/R CMD build --keep-empty-dirs --no-resave-data cisPath StartedAt: 2023-10-15 17:26:31 -0400 (Sun, 15 Oct 2023) EndedAt: 2023-10-15 17:27:18 -0400 (Sun, 15 Oct 2023) EllapsedTime: 47.0 seconds RetCode: 0 Status: OK PackageFile: cisPath_1.40.0.tar.gz PackageFileSize: 1.033 MiB