Package: cisPath Version: 1.40.0 Command: rm -rf cisPath.buildbin-libdir && mkdir cisPath.buildbin-libdir && /Users/biocbuild/BBS/utils/build-universal.sh cisPath_1.40.0.tar.gz /Library/Frameworks/R.framework/Resources/bin/R cisPath.buildbin-libdir StartedAt: 2023-10-16 09:09:07 -0400 (Mon, 16 Oct 2023) EndedAt: 2023-10-16 09:09:53 -0400 (Mon, 16 Oct 2023) EllapsedTime: 45.5 seconds RetCode: 0 Status: OK PackageFile: cisPath_1.40.0.tgz PackageFileSize: 1.089 MiB