Package: ceRNAnetsim Version: 1.12.0 Command: /Library/Frameworks/R.framework/Resources/bin/R CMD build --keep-empty-dirs --no-resave-data ceRNAnetsim StartedAt: 2023-10-15 17:19:00 -0400 (Sun, 15 Oct 2023) EndedAt: 2023-10-15 17:29:34 -0400 (Sun, 15 Oct 2023) EllapsedTime: 633.4 seconds RetCode: 0 Status: OK PackageFile: ceRNAnetsim_1.12.0.tar.gz PackageFileSize: 2.928 MiB