Package: branchpointer Version: 1.26.0 Command: F:\biocbuild\bbs-3.17-bioc\R\bin\R.exe CMD INSTALL branchpointer StartedAt: 2023-10-15 16:47:56 -0400 (Sun, 15 Oct 2023) EndedAt: 2023-10-15 16:48:55 -0400 (Sun, 15 Oct 2023) EllapsedTime: 58.9 seconds RetCode: 0 Status: OK