Package: branchpointer Version: 1.26.0 Command: chmod a+r branchpointer -R && F:\biocbuild\bbs-3.17-bioc\R\bin\R.exe CMD build --keep-empty-dirs --no-resave-data branchpointer StartedAt: 2023-10-15 17:49:59 -0400 (Sun, 15 Oct 2023) EndedAt: 2023-10-15 17:51:23 -0400 (Sun, 15 Oct 2023) EllapsedTime: 84.2 seconds RetCode: 0 Status: OK PackageFile: branchpointer_1.26.0.tar.gz PackageFileSize: 4.806 MiB