Package: branchpointer Version: 1.26.0 Command: rm -rf branchpointer.buildbin-libdir && mkdir branchpointer.buildbin-libdir && F:\biocbuild\bbs-3.17-bioc\R\bin\R.exe CMD INSTALL --build --library=branchpointer.buildbin-libdir branchpointer_1.26.0.tar.gz StartedAt: 2023-10-16 08:30:42 -0400 (Mon, 16 Oct 2023) EndedAt: 2023-10-16 08:31:43 -0400 (Mon, 16 Oct 2023) EllapsedTime: 60.6 seconds RetCode: 0 Status: OK PackageFile: branchpointer_1.26.0.zip PackageFileSize: 4.321 MiB