Package: branchpointer Version: 1.26.0 Command: /home/biocbuild/bbs-3.17-bioc/R/bin/R CMD check --install=check:branchpointer.install-out.txt --library=/home/biocbuild/bbs-3.17-bioc/R/site-library --timings branchpointer_1.26.0.tar.gz StartedAt: 2023-10-15 19:42:57 -0400 (Sun, 15 Oct 2023) EndedAt: 2023-10-15 19:48:17 -0400 (Sun, 15 Oct 2023) EllapsedTime: 320.5 seconds RetCode: 0 Status: OK CheckDir: branchpointer.Rcheck Warnings: 0