Package: bioCancer Version: 1.28.0 Command: /home/biocbuild/bbs-3.17-bioc/R/bin/R CMD build --keep-empty-dirs --no-resave-data bioCancer StartedAt: 2023-10-15 16:04:06 -0400 (Sun, 15 Oct 2023) EndedAt: 2023-10-15 16:04:40 -0400 (Sun, 15 Oct 2023) EllapsedTime: 34.8 seconds RetCode: 0 Status: OK PackageFile: bioCancer_1.28.0.tar.gz PackageFileSize: 8.503 MiB