Package: beadarraySNP Version: 1.66.0 Command: F:\biocbuild\bbs-3.17-bioc\R\bin\R.exe CMD INSTALL beadarraySNP StartedAt: 2023-10-15 16:41:50 -0400 (Sun, 15 Oct 2023) EndedAt: 2023-10-15 16:42:08 -0400 (Sun, 15 Oct 2023) EllapsedTime: 17.7 seconds RetCode: 0 Status: OK