Package: beadarraySNP Version: 1.66.0 Command: rm -rf beadarraySNP.buildbin-libdir && mkdir beadarraySNP.buildbin-libdir && F:\biocbuild\bbs-3.17-bioc\R\bin\R.exe CMD INSTALL --build --library=beadarraySNP.buildbin-libdir beadarraySNP_1.66.0.tar.gz StartedAt: 2023-10-16 08:27:42 -0400 (Mon, 16 Oct 2023) EndedAt: 2023-10-16 08:28:01 -0400 (Mon, 16 Oct 2023) EllapsedTime: 18.1 seconds RetCode: 0 Status: OK PackageFile: beadarraySNP_1.66.0.zip PackageFileSize: 969.3 KiB